Workbook

Sheet Sociální služba 1
A3: Základní identifikační údaje:
A5: Název organizace (poskytovatele služby)
A6: Identifikační číslo (IČ)
A7: Identifikátor služby
A8: Název služby
A9: Druh služby
A10: Forma služby
A11: Cílová skupina služby
A12: Místo poskytování sociální služby a územní působnost
A13: Služba v rámci projektu poskytována od - do (uvede se konkrétní datum odkdy - dokdy je poskytování služby v projektu):
A14: Počet měsíců poskytování služby v rámci projektu celkem | C14: =SUM(C15:C18) -> 0
A15: rok n
A16: rok n+1
A17: rok n+2
A18: rok n+3
A20: Údaje o kapacitě služby (poskytovatel vyplní údaje o kapacitě služby s ohledem na druh a formu služby a způsob/jednotku vyjádření její kapacity v síti sociálních služeb a v rámci Pověření)
A22: Předpokládaný rozsah služby (Kapacita služby) | C22: Jednotka pro vyjádření kapacity služby | E22: Počet jednotek služby
A23: rok n
A24: rok n+1
A25: rok n+2
A26: rok n+3
A28: poznámka: rok n = první kalendářní rok, ve kterém bude sociální služba v rámci projektu podpořena
A31: Personální zajištění služby
A33: rok n
A34: ř. | B34: pracovní pozice | D34: úvazky - pracovní smlouvy | E34: úvazky - DPČ | F34: úvazky (přepočet) - DPP | G34: celkem
A35: 1 | B35: PRACOVNÍCI CELKEM | D35: 0 | E35: =E36+E43 -> 0 | F35: =F36+F43 -> 0 | G35: =G36+G43 -> 0
A36: 41275 | B36: PRACOVNÍCI V PŘÍMÉ PÉČI celkem | D36: =SUM(D37:D42) -> 0 | E36: =SUM(E37:E42) -> 0 | F36: =SUM(F37:F42) -> 0 | G36: =SUM(G37:G42) -> 0
A37: 1.1.1. | B37: sociální pracovníci | G37: =SUM(D37:F37) -> 0
A38: 1.1.2. | B38: pracovníci v sociálních službách | G38: =SUM(D38:F38) -> 0
A39: 1.1.3. | B39: zdravotničtí pracovníci | G39: =SUM(D39:F39) -> 0
A40: 1.1.4. | B40: pedagogičtí pracovníci | G40: =SUM(D40:F40) -> 0
A41: 1.1.5. | B41: manželští a rodinní poradci | G41: =SUM(D41:F41) -> 0
A42: 1.1.6. | B42: další odborní pracovníci, kt.přímo poskytují soc.služby | G42: =SUM(D42:F42) -> 0
A43: 41306 | B43: OSTATNÍ PRACOVNÍCI celkem | D43: =SUM(D44:D46) -> 0 | E43: =SUM(E44:E46) -> 0 | F43: =SUM(F44:F46) -> 0 | G43: =SUM(G44:G46) -> 0
A44: 1.2.1. | B44: vedoucí pracovníci | G44: =SUM(D44:F44) -> 0
A45: 1.2.2. | B45: administrativní pracovníci | G45: =SUM(D45:F45) -> 0
A46: 1.2.3. | B46: obslužný personál | G46: =SUM(D46:F46) -> 0
A48: rok n+1
A49: ř. | B49: pracovní pozice | D49: úvazky - pracovní smlouvy | E49: úvazky - DPČ | F49: úvazky (přepočet) - DPP | G49: celkem
A50: 1 | B50: PRACOVNÍCI CELKEM | D50: =D51+D58 -> 0 | E50: =E51+E58 -> 0 | F50: =F51+F58 -> 0 | G50: =G51+G58 -> 0
...

Sheet Sociální služba 2
A3: Základní identifikační údaje:
A5: Název organizace (poskytovatele služby)
A6: Identifikační číslo (IČ)
A7: Identifikátor služby
A8: Název služby
A9: Druh služby
A10: Forma služby
A11: Cílová skupina služby
A12: Místo poskytování sociální služby a územní působnost
A13: Služba v rámci projektu poskytována od - do (uvede se konkrétní datum odkdy - dokdy je poskytování služby v projektu):
A14: Počet měsíců poskytování služby v rámci projektu celkem | C14: =SUM(C15:C18) -> 0
A15: rok n
A16: rok n+1
A17: rok n+2
A18: rok n+3
A20: Údaje o kapacitě služby (poskytovatel vyplní údaje o kapacitě služby s ohledem na druh a formu služby a způsob/jednotku vyjádření její kapacity v síti sociálních služeb a v rámci Pověření)
A22: Předpokládaný rozsah služby (Kapacita služby) | C22: Jednotka pro vyjádření kapacity služby | E22: Počet jednotek služby
A23: rok n
A24: rok n+1
A25: rok n+2
A26: rok n+3
A28: poznámka: rok n = první kalendářní rok, ve kterém bude sociální služba v rámci projektu podpořena
A31: Personální zajištění služby
A33: rok n
A34: ř. | B34: pracovní pozice | D34: úvazky - pracovní smlouvy | E34: úvazky - DPČ | F34: úvazky (přepočet) - DPP | G34: celkem
A35: 1 | B35: PRACOVNÍCI CELKEM | D35: =D36+D43 -> 0 | E35: =E36+E43 -> 0 | F35: =F36+F43 -> 0 | G35: =G36+G43 -> 0
A36: 41275 | B36: PRACOVNÍCI V PŘÍMÉ PÉČI celkem | D36: =SUM(D37:D42) -> 0 | E36: =SUM(E37:E42) -> 0 | F36: =SUM(F37:F42) -> 0 | G36: =SUM(G37:G42) -> 0
A37: 1.1.1. | B37: sociální pracovníci | G37: =SUM(D37:F37) -> 0
A38: 1.1.2. | B38: pracovníci v sociálních službách | G38: =SUM(D38:F38) -> 0
A39: 1.1.3. | B39: zdravotničtí pracovníci | G39: =SUM(D39:F39) -> 0
A40: 1.1.4. | B40: pedagogičtí pracovníci | G40: =SUM(D40:F40) -> 0
A41: 1.1.5. | B41: manželští a rodinní poradci | G41: =SUM(D41:F41) -> 0
A42: 1.1.6. | B42: další odborní pracovníci, kt.přímo poskytují soc.služby | G42: =SUM(D42:F42) -> 0
A43: 41306 | B43: OSTATNÍ PRACOVNÍCI celkem | D43: =SUM(D44:D46) -> 0 | E43: =SUM(E44:E46) -> 0 | F43: =SUM(F44:F46) -> 0 | G43: =SUM(G44:G46) -> 0
A44: 1.2.1. | B44: vedoucí pracovníci | G44: =SUM(D44:F44) -> 0
A45: 1.2.2. | B45: administrativní pracovníci | G45: =SUM(D45:F45) -> 0
A46: 1.2.3. | B46: obslužný personál | G46: =SUM(D46:F46) -> 0
A48: rok n+1
A49: ř. | B49: pracovní pozice | D49: úvazky - pracovní smlouvy | E49: úvazky - DPČ | F49: úvazky (přepočet) - DPP | G49: celkem
A50: 1 | B50: PRACOVNÍCI CELKEM | D50: =D51+D58 -> 0 | E50: =E51+E58 -> 0 | F50: =F51+F58 -> 0 | G50: =G51+G58 -> 0
...

Sheet Sociální služba 3
A3: Základní identifikační údaje:
A5: Název organizace (poskytovatele služby)
A6: Identifikační číslo (IČ)
A7: Identifikátor služby
A8: Název služby
A9: Druh služby
A10: Forma služby
A11: Cílová skupina služby
A12: Místo poskytování sociální služby a územní působnost
A13: Služba v rámci projektu poskytována od - do (uvede se konkrétní datum odkdy - dokdy je poskytování služby v projektu):
A14: Počet měsíců poskytování služby v rámci projektu celkem | C14: =SUM(C15:C18) -> 0
A15: rok n
A16: rok n+1
A17: rok n+2
A18: rok n+3
A20: Údaje o kapacitě služby (poskytovatel vyplní údaje o kapacitě služby s ohledem na druh a formu služby a způsob/jednotku vyjádření její kapacity v síti sociálních služeb a v rámci Pověření)
A22: Předpokládaný rozsah služby (Kapacita služby) | C22: Jednotka pro vyjádření kapacity služby | E22: Počet jednotek služby
A23: rok n
A24: rok n+1
A25: rok n+2
A26: rok n+3
A28: poznámka: rok n = první kalendářní rok, ve kterém bude sociální služba v rámci projektu podpořena
A31: Personální zajištění služby
A33: rok n
A34: ř. | B34: pracovní pozice | D34: úvazky - pracovní smlouvy | E34: úvazky - DPČ | F34: úvazky (přepočet) - DPP | G34: celkem
A35: 1 | B35: PRACOVNÍCI CELKEM | D35: =D36+D43 -> 0 | E35: =E36+E43 -> 0 | F35: =F36+F43 -> 0 | G35: =G36+G43 -> 0
A36: 41275 | B36: PRACOVNÍCI V PŘÍMÉ PÉČI celkem | D36: =SUM(D37:D42) -> 0 | E36: =SUM(E37:E42) -> 0 | F36: =SUM(F37:F42) -> 0 | G36: =SUM(G37:G42) -> 0
A37: 1.1.1. | B37: sociální pracovníci | G37: =SUM(D37:F37) -> 0
A38: 1.1.2. | B38: pracovníci v sociálních službách | G38: =SUM(D38:F38) -> 0
A39: 1.1.3. | B39: zdravotničtí pracovníci | G39: =SUM(D39:F39) -> 0
A40: 1.1.4. | B40: pedagogičtí pracovníci | G40: =SUM(D40:F40) -> 0
A41: 1.1.5. | B41: manželští a rodinní poradci | G41: =SUM(D41:F41) -> 0
A42: 1.1.6. | B42: další odborní pracovníci, kt.přímo poskytují soc.služby | G42: =SUM(D42:F42) -> 0
A43: 41306 | B43: OSTATNÍ PRACOVNÍCI celkem | D43: =SUM(D44:D46) -> 0 | E43: =SUM(E44:E46) -> 0 | F43: =SUM(F44:F46) -> 0 | G43: =SUM(G44:G46) -> 0
A44: 1.2.1. | B44: vedoucí pracovníci | G44: =SUM(D44:F44) -> 0
A45: 1.2.2. | B45: administrativní pracovníci | G45: =SUM(D45:F45) -> 0
A46: 1.2.3. | B46: obslužný personál | G46: =SUM(D46:F46) -> 0
A48: rok n+1
A49: ř. | B49: pracovní pozice | D49: úvazky - pracovní smlouvy | E49: úvazky - DPČ | F49: úvazky (přepočet) - DPP | G49: celkem
A50: 1 | B50: PRACOVNÍCI CELKEM | D50: =D51+D58 -> 0 | E50: =E51+E58 -> 0 | F50: =F51+F58 -> 0 | G50: =G51+G58 -> 0
...

Sheet Další aktivity SOUHRNNĚ
A2: Další aktivity v projektu (mimo sociální služby)
A4: Celkové způsobilé výdaje připadající na další aktivity projektu (tj. včetně nepřímých nákladů) | B4: 0
A5: Jiné peněžní příjmy vůči dalším aktivitám projektu | B5: 0
A6: Celkové způsobilé výdaje bez příjmů | B6: =B4-B5 -> 0
A7: Spolufinancování připadající na další aktivity | B7: ='Sociální služba 1'!C142 -> 0
A8: Podpora celkem | B8: =(100%-B7)*B6 -> 0
A9: Vlastní zdroje spolufinancování | B9: =B6*B7 -> 0
A12: 0
A13: 0.05
A14: 0.15

Sheet Žádost v ISKP
A1: Žádost o podporu (Žádost v ISKP)
A2: Přehled zdrojů financování
A4: Přehled zdrojů financování: | B4: Celkem za projekt | C4: Sociální služba 1 | D4: Sociální služba 2 | E4: Sociální služba 3 | F4: Další aktivity (v souhrnu)
A5: Fáze přehledu financování | B5: Žádost o podporu
A6: Měna | B6: CZK
A7: Název etapy:
A8: Celkové zdroje: | B8: =SUM(C8:F8) -> 0 | C8: =C11 -> 0 | D8: =D11 -> 0 | E8: =E11 -> 0 | F8: =F11 -> 0
A9: Celkové nezpůsobilé výdaje: | B9: =SUM(C9:F9) -> 0 | C9: 0 | D9: 0 | E9: 0 | F9: 0
A10: JPP nezpůsobilé: | B10: =SUM(C10:F10) -> 0 | C10: 0 | D10: 0 | E10: 0 | F10: 0
A11: Celkové způsobilé výdaje: | B11: =SUM(C11:F11) -> 0 | C11: =SUM(C12:C13) -> 0 | D11: =SUM(D12:D13) -> 0 | E11: =SUM(E12:E13) -> 0 | F11: =SUM(F12:F13) -> 0
A12: Jiné peněžní příjmy (JPP): | B12: =SUM(C12:F12) -> 0 | C12: ='Sociální služba 1'!D140-'Žádost v ISKP'!C18 -> 0 | D12: ='Sociální služba 2'!D140-'Žádost v ISKP'!D18 -> 0 | E12: ='Sociální služba 3'!D140-'Žádost v ISKP'!E18 -> 0 | F12: ='Další aktivity SOUHRNNĚ'!B5 -> 0
A13: CZV bez příjmů: | B13: =SUM(C13:F13) -> 0 | C13: =SUM(C17:C18) -> 0 | D13: =SUM(D17:D18) -> 0 | E13: =SUM(E17:E18) -> 0 | F13: =SUM(F17:F18) -> 0
A14: Příjmy čl. 61 obecného nařízení: | B14: =SUM(C14:F14) -> 0 | C14: 0 | D14: 0 | E14: 0 | F14: 0
A15: Příspěvek Unie: | B15: =SUM(C15:F15) -> 0 | C15: =C13*0.85 -> 0 | D15: =D13*0.85 -> 0 | E15: =E13*0.85 -> 0 | F15: =F13*0.85 -> 0
A16: Národní veřejné zdroje: | B16: =SUM(C16:F16) -> 0 | C16: =IF(C19=15%,0,C13*0.15) -> 0 | D16: =IF(D19=15%,0,D13*0.15) -> 0 | E16: =IF(E19=15%,0,E13*0.15) -> 0 | F16: =IF(F19=15%,0,F13*0.15) -> 0
A17: Podpora celkem: | B17: =SUM(C17:F17) -> 0 | C17: =C21 -> 0 | D17: =D21 -> 0 | E17: =E21 -> 0 | F17: ='Další aktivity SOUHRNNĚ'!B8 -> 0
A18: Vlastní zdroj financování: | B18: =SUM(C18:F18) -> 0 | C18: =(C17/(100%-C19)*C19) -> 0 | D18: =(D17/(100%-D19)*D19) -> 0 | E18: =(E17/(100%-E19)*E19) -> 0 | F18: =(F17/(100%-F19)*F19) -> 0
A19: Procento vlastního spolufinancování: | B19: ='Sociální služba 1'!C142 -> 0 | C19: ='Sociální služba 1'!C142 -> 0 | D19: ='Sociální služba 1'!C142 -> 0 | E19: ='Sociální služba 1'!C142 -> 0 | F19: ='Sociální služba 1'!C142 -> 0
A21: Vyrovnávací platba celkem: | B21: =SUM(C21:E21) -> 0 | C21: ='Sociální služba 1'!D141 -> 0 | D21: ='Sociální služba 2'!D141 -> 0 | E21: ='Sociální služba 3'!D141 -> 0 | F21: NENÍ RELEVANTNÍ | G21: =SUM(C17:E17) -> 0
